BEGIN:VCALENDAR
VERSION:2.0
PRODID:SchoolNow
CALSCALE:GREGORIAN
BEGIN:VEVENT
UID:9950c460-6ae4-11eb-a36e-0a3ab80253cd
DTSTAMP:20231218T220834Z
SUMMARY:Spring Break 2021 (No School)
URL;VALUE=URI:https://www.hammond.k12.in.us/schools/scott-middle-school/cal
 endar/2536527/spring-break-2021-no-school
DTSTART;VALUE=DATE:20210329
DTEND;VALUE=DATE:20210406
END:VEVENT
END:VCALENDAR
