BEGIN:VCALENDAR
VERSION:2.0
PRODID:SchoolNow
CALSCALE:GREGORIAN
BEGIN:VEVENT
UID:6696a2b0-2b33-11eb-ad0f-0aeba7fced13
DTSTAMP:20231218T225738Z
SUMMARY:Thanksgiving 2020
URL;VALUE=URI:https://www.hammond.k12.in.us/schools/eggers-middle-school/ca
 lendar/2500445/thanksgiving-2020
DTSTART;VALUE=DATE:20201126
DTEND;VALUE=DATE:20201127
END:VEVENT
END:VCALENDAR
