BEGIN:VCALENDAR
VERSION:2.0
PRODID:SchoolNow
CALSCALE:GREGORIAN
BEGIN:VEVENT
UID:c29c7c3e-2b32-11eb-87cb-0ac40fa3281f
DTSTAMP:20231218T211508Z
SUMMARY:School Board Meeting - Nov. 24\, 2020
URL;VALUE=URI:https://www.hammond.k12.in.us/schools/edison-elementary-schoo
 l/calendar/2500441/school-board-meeting-nov-24-2020
DTSTART:20201125T000000Z
DTEND:20201125T013000Z
END:VEVENT
END:VCALENDAR
