BEGIN:VCALENDAR
VERSION:2.0
PRODID:SchoolNow
CALSCALE:GREGORIAN
BEGIN:VEVENT
UID:dd7b4c62-3e5d-11f1-9f87-0a58a9feac02
DTSTAMP:20260422T151349Z
SUMMARY:Public Hearing - 042826
LOCATION:Administration Center\, 41 Williams Street\, Hammond\, IN 46320
URL;VALUE=URI:https://www.hammond.k12.in.us/calendar/9011180/public-hearing
 -042826
DTSTART:20260428T223000Z
DTEND:20260428T233000Z
ATTACH;FILENAME=SCH_Public Hearing_April 28 26.pdf;FMTTYPE=application/pdf:
 https://campussuite-storage.s3.amazonaws.com/prod/1559033/fab8744a-ab41-11
 ea-9bfa-127f10bcdb1b/3091702/b432e5b8-3e5d-11f1-9b34-0a58a9feac02/file/SCH
 _Public Hearing_April 28 26.pdf
ATTACH;FILENAME=SCH_Proposed Superintendent Contract_A Salinas.pdf;FMTTYPE=
 application/pdf:https://campussuite-storage.s3.amazonaws.com/prod/1559033/
 fab8744a-ab41-11ea-9bfa-127f10bcdb1b/3091704/c611e888-3e5d-11f1-a3d6-0a58a
 9feac02/file/SCH_Proposed Superintendent Contract_A Salinas.pdf
END:VEVENT
END:VCALENDAR
