BEGIN:VCALENDAR
VERSION:2.0
PRODID:SchoolNow
CALSCALE:GREGORIAN
BEGIN:VEVENT
UID:a55c917c-2172-11f1-b3a1-0a58a9feac02
DTSTAMP:20260316T195930Z
SUMMARY:School Board Meeting - 072126
LOCATION:Administration Center\, 41 Williams Street\, Hammond\, IN 46320
URL;VALUE=URI:https://www.hammond.k12.in.us/calendar/8922937/school-board-m
 eeting-072126
DTSTART:20260721T230000Z
DTEND:20260722T000000Z
END:VEVENT
END:VCALENDAR
