BEGIN:VCALENDAR
VERSION:2.0
PRODID:SchoolNow
CALSCALE:GREGORIAN
BEGIN:VEVENT
UID:965c4cee-2172-11f1-ac92-0a58a9feac02
DTSTAMP:20260316T195905Z
SUMMARY:Executive Session - 072126
LOCATION:Administration Center\, 41 Williams Street\, Hammond\, IN 46320
URL;VALUE=URI:https://www.hammond.k12.in.us/calendar/8922936/executive-sess
 ion-072126
DTSTART:20260721T221500Z
DTEND:20260721T230000Z
END:VEVENT
END:VCALENDAR
