BEGIN:VCALENDAR
VERSION:2.0
PRODID:SchoolNow
CALSCALE:GREGORIAN
BEGIN:VEVENT
UID:822df7e0-2172-11f1-8a77-0affd607021b
DTSTAMP:20260316T195831Z
SUMMARY:School Board Meeting - 061626
LOCATION:Administration Center\, 41 Williams Street\, Hammond\, IN 46320
URL;VALUE=URI:https://www.hammond.k12.in.us/calendar/8922935/school-board-m
 eeting-061626
DTSTART:20260616T230000Z
DTEND:20260617T000000Z
END:VEVENT
END:VCALENDAR
