BEGIN:VCALENDAR
VERSION:2.0
PRODID:SchoolNow
CALSCALE:GREGORIAN
BEGIN:VEVENT
UID:730bbe6e-2172-11f1-b838-0a58a9feac02
DTSTAMP:20260316T195806Z
SUMMARY:Executive Session - 061626
LOCATION:Administration Center\, 41 Williams Street\, Hammond\, IN 46320
URL;VALUE=URI:https://www.hammond.k12.in.us/calendar/8922934/executive-sess
 ion-061626
DTSTART:20260616T221500Z
DTEND:20260616T230000Z
END:VEVENT
END:VCALENDAR
