BEGIN:VCALENDAR
VERSION:2.0
PRODID:SchoolNow
CALSCALE:GREGORIAN
BEGIN:VEVENT
UID:594de3d0-2172-11f1-a32a-0affc3456649
DTSTAMP:20260316T195723Z
SUMMARY:School Board Meeting - 052626
LOCATION:Administration Center\, 41 Williams Street\, Hammond\, IN 46320
URL;VALUE=URI:https://www.hammond.k12.in.us/calendar/8922933/school-board-m
 eeting-052626
DTSTART:20260526T230000Z
DTEND:20260527T000000Z
END:VEVENT
END:VCALENDAR
