BEGIN:VCALENDAR
VERSION:2.0
PRODID:SchoolNow
CALSCALE:GREGORIAN
BEGIN:VEVENT
UID:4bb312c2-2172-11f1-939a-0a58a9feac02
DTSTAMP:20260316T195700Z
SUMMARY:School Board Meeting - 051226
LOCATION:Administration Center\, 41 Williams Street\, Hammond\, IN 46320
URL;VALUE=URI:https://www.hammond.k12.in.us/calendar/8922932/school-board-m
 eeting-051226
DTSTART:20260512T230000Z
DTEND:20260513T000000Z
END:VEVENT
END:VCALENDAR
