BEGIN:VCALENDAR
VERSION:2.0
PRODID:SchoolNow
CALSCALE:GREGORIAN
BEGIN:VEVENT
UID:5b14c3c8-11c8-11f1-8c55-0a58a9feac02
DTSTAMP:20260224T213244Z
SUMMARY:School Board Meeting - 030326
LOCATION:Administration Center\, 41 Williams Street\, Hammond\, IN 46320
URL;VALUE=URI:https://www.hammond.k12.in.us/calendar/8869705/school-board-m
 eeting-030326
DTSTART:20260304T000000Z
DTEND:20260304T010000Z
END:VEVENT
END:VCALENDAR
