BEGIN:VCALENDAR
VERSION:2.0
PRODID:SchoolNow
CALSCALE:GREGORIAN
BEGIN:VEVENT
UID:1c17e75e-11c8-11f1-8ae0-0a58a9feac02
DTSTAMP:20260224T213058Z
SUMMARY:Executive Session - 030326
LOCATION:Administration Center\, 41 Williams Street\, Hammond\, IN 46320
URL;VALUE=URI:https://www.hammond.k12.in.us/calendar/8869702/executive-sess
 ion-030326
DTSTART:20260303T231500Z
DTEND:20260304T000000Z
ATTACH;FILENAME=SCH_Exec Sess_PWS_Mar 26.pdf;FMTTYPE=application/pdf:https:
 //campussuite-storage.s3.amazonaws.com/prod/1559033/fab8744a-ab41-11ea-9bf
 a-127f10bcdb1b/3073970/09441a08-11c8-11f1-a9e8-0261e2fd6d85/file/SCH_Exec 
 Sess_PWS_Mar 26.pdf
END:VEVENT
END:VCALENDAR
