BEGIN:VCALENDAR
VERSION:2.0
PRODID:SchoolNow
CALSCALE:GREGORIAN
BEGIN:VEVENT
UID:2e0898d2-0769-11f1-9b1b-0221fbe23d43
DTSTAMP:20260211T164615Z
SUMMARY:Franklin's College and Career Expo
URL;VALUE=URI:https://www.hammond.k12.in.us/calendar/8853271/franklins-coll
 ege-and-career-expo
DTSTART:20260312T143000Z
DTEND:20260312T183000Z
END:VEVENT
END:VCALENDAR
