BEGIN:VCALENDAR
VERSION:2.0
PRODID:SchoolNow
CALSCALE:GREGORIAN
BEGIN:VEVENT
UID:ef3a36d8-fc55-11f0-990b-0affc62d5681
DTSTAMP:20260130T164602Z
SUMMARY:Executive Session - 020326
LOCATION:Administration Center\, 41 Williams Street\, Hammond\, IN 46320
URL;VALUE=URI:https://www.hammond.k12.in.us/calendar/8845570/executive-sess
 ion-020326
DTSTART:20260203T231500Z
DTEND:20260204T000000Z
ATTACH;FILENAME=SCH_Exec Sess_Feb 2026_R.pdf;FMTTYPE=application/pdf:https:
 //campussuite-storage.s3.amazonaws.com/prod/1559033/fab8744a-ab41-11ea-9bf
 a-127f10bcdb1b/3065691/23306c5e-fdfb-11f0-ad4f-0a58a9feac02/file/SCH_Exec 
 Sess_Feb 2026_R.pdf
END:VEVENT
END:VCALENDAR
