BEGIN:VCALENDAR
VERSION:2.0
PRODID:SchoolNow
CALSCALE:GREGORIAN
BEGIN:VEVENT
UID:b7ea0488-fc55-11f0-b9af-0a58a9feac02
DTSTAMP:20260128T142913Z
SUMMARY:School Board Meeting - 020326
LOCATION:Administration Center\, 41 Williams Street\, Hammond\, IN 46320
URL;VALUE=URI:https://www.hammond.k12.in.us/calendar/8845568/school-board-m
 eeting-020326
DTSTART:20260204T000000Z
DTEND:20260204T010000Z
END:VEVENT
END:VCALENDAR
