BEGIN:VCALENDAR
VERSION:2.0
PRODID:SchoolNow
CALSCALE:GREGORIAN
BEGIN:VEVENT
UID:67736e80-eb2b-11f0-9bbe-0affef73b657
DTSTAMP:20260106T181330Z
SUMMARY:Executive Session - 012026
LOCATION:Administration Center\, 41 Williams Street\, Hammond\, IN 46320
URL;VALUE=URI:https://www.hammond.k12.in.us/calendar/8829934/executive-sess
 ion-012026
DTSTART:20260120T231500Z
DTEND:20260121T000000Z
ATTACH;FILENAME=SCH_Exec Sess_Jan 2026.pdf;FMTTYPE=application/pdf:https://
 campussuite-storage.s3.amazonaws.com/prod/1559033/fab8744a-ab41-11ea-9bfa-
 127f10bcdb1b/3057219/0ffc6d78-eb2b-11f0-bd38-0eed8f2d95bd/file/SCH_Exec Se
 ss_Jan 2026.pdf
END:VEVENT
END:VCALENDAR
