BEGIN:VCALENDAR
VERSION:2.0
PRODID:SchoolNow
CALSCALE:GREGORIAN
BEGIN:VEVENT
UID:5f085fc6-eb2b-11f0-9ffc-0e89667e7b37
DTSTAMP:20260106T181315Z
SUMMARY:School Board Meeting - 012026
LOCATION:Administration Center\, 41 Williams Street\, Hammond\, IN 46320
URL;VALUE=URI:https://www.hammond.k12.in.us/calendar/8829933/school-board-m
 eeting-012026
DTSTART:20260121T000000Z
DTEND:20260121T010000Z
END:VEVENT
END:VCALENDAR
