BEGIN:VCALENDAR
VERSION:2.0
PRODID:SchoolNow
CALSCALE:GREGORIAN
BEGIN:VEVENT
UID:4e0f0b2a-eb2b-11f0-a90a-0a58a9feac02
DTSTAMP:20260106T181247Z
SUMMARY:Special Board Meeting - 010626
LOCATION:Administration Center\, 41 Williams Street\, Hammond\, IN 46320
URL;VALUE=URI:https://www.hammond.k12.in.us/calendar/8829932/special-board-
 meeting-010626
DTSTART:20260107T000000Z
DTEND:20260107T010000Z
END:VEVENT
END:VCALENDAR
