BEGIN:VCALENDAR
VERSION:2.0
PRODID:SchoolNow
CALSCALE:GREGORIAN
BEGIN:VEVENT
UID:1cff5df0-eb2b-11f0-a870-0afff0dc14c1
DTSTAMP:20260106T181125Z
SUMMARY:Executive Session - 010626
LOCATION:Administration Center\, 41 Williams Street\, Hammond\, IN 46320
URL;VALUE=URI:https://www.hammond.k12.in.us/calendar/8829931/executive-sess
 ion-010626
DTSTART:20260106T231500Z
DTEND:20260107T000000Z
ATTACH;FILENAME=SCH_Exec Sess_Jan 2026.pdf;FMTTYPE=application/pdf:https://
 campussuite-storage.s3.amazonaws.com/prod/1559033/fab8744a-ab41-11ea-9bfa-
 127f10bcdb1b/3057219/0ffc6d78-eb2b-11f0-bd38-0eed8f2d95bd/file/SCH_Exec Se
 ss_Jan 2026.pdf
END:VEVENT
END:VCALENDAR
