BEGIN:VCALENDAR
VERSION:2.0
PRODID:SchoolNow
CALSCALE:GREGORIAN
BEGIN:VEVENT
UID:14c6ee10-c64a-11f0-8f4b-0e23e915d72f
DTSTAMP:20251120T194952Z
SUMMARY:Special Board Meeting - 120225
LOCATION:Administration Center\, 41 Williams Street\, Hammond\, IN 46320
URL;VALUE=URI:https://www.hammond.k12.in.us/calendar/8806333/special-board-
 meeting-120225
DTSTART:20251203T000000Z
DTEND:20251203T010000Z
ATTACH;FILENAME=SCH_Public Meeting_Special Meeting_2025.pdf;FMTTYPE=applica
 tion/pdf:https://campussuite-storage.s3.amazonaws.com/prod/1559033/fab8744
 a-ab41-11ea-9bfa-127f10bcdb1b/3042266/de7e740e-c649-11f0-a601-0a58a9feac02
 /file/SCH_Public Meeting_Special Meeting_2025.pdf
END:VEVENT
END:VCALENDAR
