BEGIN:VCALENDAR
VERSION:2.0
PRODID:SchoolNow
CALSCALE:GREGORIAN
BEGIN:VEVENT
UID:fae836e8-c649-11f0-88d4-0e924e89945b
DTSTAMP:20251120T194909Z
SUMMARY:Public Meeting - 112525
LOCATION:Administration Center\, 41 Williams Street\, Hammond\, IN 46320
URL;VALUE=URI:https://www.hammond.k12.in.us/calendar/8806332/public-meeting
 -112525
DTSTART:20251125T233000Z
DTEND:20251126T003000Z
ATTACH;FILENAME=SCH_Public Meeting_Special Meeting_2025.pdf;FMTTYPE=applica
 tion/pdf:https://campussuite-storage.s3.amazonaws.com/prod/1559033/fab8744
 a-ab41-11ea-9bfa-127f10bcdb1b/3042266/de7e740e-c649-11f0-a601-0a58a9feac02
 /file/SCH_Public Meeting_Special Meeting_2025.pdf
END:VEVENT
END:VCALENDAR
