BEGIN:VCALENDAR
VERSION:2.0
PRODID:SchoolNow
CALSCALE:GREGORIAN
BEGIN:VEVENT
UID:6c580084-c649-11f0-ab8e-0a58a9feac02
DTSTAMP:20251210T153600Z
SUMMARY:Executive Session - 121625
LOCATION:Administration Center\, 41 Williams Street\, Hammond\, IN 46320
URL;VALUE=URI:https://www.hammond.k12.in.us/calendar/8806331/executive-sess
 ion-121625
DTSTART:20251216T231500Z
DTEND:20251217T000000Z
ATTACH;FILENAME=SCH_Exec Sess_Dec 2025.pdf;FMTTYPE=application/pdf:https://
 campussuite-storage.s3.amazonaws.com/prod/1559033/fab8744a-ab41-11ea-9bfa-
 127f10bcdb1b/3049839/e216bb6e-d5dd-11f0-b918-0a58a9feac02/file/SCH_Exec Se
 ss_Dec 2025.pdf
END:VEVENT
END:VCALENDAR
