BEGIN:VCALENDAR
VERSION:2.0
PRODID:SchoolNow
CALSCALE:GREGORIAN
BEGIN:VEVENT
UID:7232f99a-c645-11f0-a122-02ea71babd91
DTSTAMP:20251120T191641Z
SUMMARY:School Board Meeting - 121625
LOCATION:Administration Center\, 41 Williams Street\, Hammond\, IN 46320
URL;VALUE=URI:https://www.hammond.k12.in.us/calendar/8806003/school-board-m
 eeting-121625
DTSTART:20251217T000000Z
DTEND:20251217T010000Z
END:VEVENT
END:VCALENDAR
