BEGIN:VCALENDAR
VERSION:2.0
PRODID:SchoolNow
CALSCALE:GREGORIAN
BEGIN:VEVENT
UID:6924ebe4-b02c-11f0-ab1d-0affda30926b
DTSTAMP:20251023T162203Z
SUMMARY:School Board Meeting - 111825
LOCATION:Administration Center\, 41 Williams Street\, Hammond\, IN 46320
URL;VALUE=URI:https://www.hammond.k12.in.us/calendar/8745304/school-board-m
 eeting-111825
DTSTART:20251119T000000Z
DTEND:20251119T010000Z
END:VEVENT
END:VCALENDAR
