BEGIN:VCALENDAR
VERSION:2.0
PRODID:SchoolNow
CALSCALE:GREGORIAN
BEGIN:VEVENT
UID:c90b36d0-b01d-11f0-9632-0ebca1ed02a9
DTSTAMP:20251023T143722Z
SUMMARY:School Board Meeting - 110425
LOCATION:Administration Center\, 41 Williams Street\, Hammond\, IN 46320
URL;VALUE=URI:https://www.hammond.k12.in.us/calendar/8744802/school-board-m
 eeting-110425
DTSTART:20251105T000000Z
DTEND:20251105T010000Z
END:VEVENT
END:VCALENDAR
