BEGIN:VCALENDAR
VERSION:2.0
PRODID:SchoolNow
CALSCALE:GREGORIAN
BEGIN:VEVENT
UID:b5faa666-b01d-11f0-a9c7-02231b95ae21
DTSTAMP:20251029T142547Z
SUMMARY:Executive Session - 111825
LOCATION:Administration Center\, 41 Williams Street\, Hammond\, IN 46320
URL;VALUE=URI:https://www.hammond.k12.in.us/calendar/8744801/executive-sess
 ion-111825
DTSTART:20251118T231500Z
DTEND:20251119T000000Z
ATTACH;FILENAME=SCH_Exec Sess_Nov 2025.pdf;FMTTYPE=application/pdf:https://
 campussuite-storage.s3.amazonaws.com/prod/1559033/fab8744a-ab41-11ea-9bfa-
 127f10bcdb1b/3028078/d439b43c-b4d2-11f0-ae0a-0a58a9feac02/file/SCH_Exec Se
 ss_Nov 2025.pdf
END:VEVENT
END:VCALENDAR
