BEGIN:VCALENDAR
VERSION:2.0
PRODID:SchoolNow
CALSCALE:GREGORIAN
BEGIN:VEVENT
UID:a8cdcaea-b01d-11f0-89f5-0afffa06ec9d
DTSTAMP:20251029T142530Z
SUMMARY:Executive Session - 110425
LOCATION:Administration Center\, 41 Williams Street\, Hammond\, IN 46320
URL;VALUE=URI:https://www.hammond.k12.in.us/calendar/8744800/executive-sess
 ion-110425
DTSTART:20251104T231500Z
DTEND:20251105T000000Z
ATTACH;FILENAME=SCH_Exec Sess_Nov 2025.pdf;FMTTYPE=application/pdf:https://
 campussuite-storage.s3.amazonaws.com/prod/1559033/fab8744a-ab41-11ea-9bfa-
 127f10bcdb1b/3028078/d439b43c-b4d2-11f0-ae0a-0a58a9feac02/file/SCH_Exec Se
 ss_Nov 2025.pdf
END:VEVENT
END:VCALENDAR
