BEGIN:VCALENDAR
VERSION:2.0
PRODID:SchoolNow
CALSCALE:GREGORIAN
BEGIN:VEVENT
UID:946d87ac-ae97-11f0-9ef5-0a58a9feac02
DTSTAMP:20251021T160410Z
SUMMARY:Morton HS Girls Varsity Basketball vs. Whiting High School (Home)
LOCATION:Morton High School
URL;VALUE=URI:https://www.hammond.k12.in.us/calendar/8739475/morton-hs-girl
 s-varsity-basketball-vs-whiting-high-school-home
DTSTART:20251105T010000Z
DTEND:20251105T020000Z
END:VEVENT
END:VCALENDAR
