BEGIN:VCALENDAR
VERSION:2.0
PRODID:SchoolNow
CALSCALE:GREGORIAN
BEGIN:VEVENT
UID:cc88a8ac-ae96-11f0-8f75-02120a3370b7
DTSTAMP:20251021T155834Z
SUMMARY:Burns-Hicks PTSA Trunk or Treat
URL;VALUE=URI:https://www.hammond.k12.in.us/calendar/8739474/burns-hicks-pt
 sa-trunk-or-treat
DTSTART:20251024T220000Z
DTEND:20251024T233000Z
ATTACH;FILENAME=BurnsHickstrunkortreat.png;FMTTYPE=image/png:https://campus
 suite-storage.s3.amazonaws.com/prod/1559033/fab8744a-ab41-11ea-9bfa-127f10
 bcdb1b/3023863/c169a0c0-ae96-11f0-91f4-0a58a9feac02/file/BurnsHickstrunkor
 treat.png
END:VEVENT
END:VCALENDAR
