BEGIN:VCALENDAR
VERSION:2.0
PRODID:SchoolNow
CALSCALE:GREGORIAN
BEGIN:VEVENT
UID:c8366b84-ae93-11f0-b63d-0a58a9feac02
DTSTAMP:20251021T153937Z
SUMMARY:Morton HS Girls Varsity Basketball @ Michigan City High School
URL;VALUE=URI:https://www.hammond.k12.in.us/calendar/8739466/morton-hs-girl
 s-varsity-basketball-michigan-city-high-school
DTSTART:20251030T230000Z
DTEND:20251031T010000Z
END:VEVENT
END:VCALENDAR
