BEGIN:VCALENDAR
VERSION:2.0
PRODID:SchoolNow
CALSCALE:GREGORIAN
BEGIN:VEVENT
UID:08bddaf0-ae91-11f0-8525-0a58a9feac02
DTSTAMP:20251021T151718Z
SUMMARY:SCH Job Fair
LOCATION:41 Williams St. Hammond\, IN 46320
URL;VALUE=URI:https://www.hammond.k12.in.us/calendar/8738946/sch-job-fair
DTSTART:20251029T140000Z
DTEND:20251029T210000Z
ATTACH;FILENAME=Job Fair 10.29.25 Flyer (2).jpg;FMTTYPE=image/jpeg:https://
 campussuite-storage.s3.amazonaws.com/prod/1559033/fab8744a-ab41-11ea-9bfa-
 127f10bcdb1b/3023778/fbb4ff5a-ae90-11f0-b262-02120a3370b7/file/Job Fair 10
 .29.25 Flyer (2).jpg
END:VEVENT
END:VCALENDAR
