BEGIN:VCALENDAR
VERSION:2.0
PRODID:SchoolNow
CALSCALE:GREGORIAN
BEGIN:VEVENT
UID:a60c4c0c-ae90-11f0-a78a-02120a3370b7
DTSTAMP:20251021T151433Z
SUMMARY:Kindness Crew-Coffee and Conversations
LOCATION:Harding Elementary School
URL;VALUE=URI:https://www.hammond.k12.in.us/calendar/8738228/kindness-crew-
 coffee-and-conversations
DTSTART:20251106T223000Z
DTEND:20251107T000000Z
END:VEVENT
END:VCALENDAR
