BEGIN:VCALENDAR
VERSION:2.0
PRODID:SchoolNow
CALSCALE:GREGORIAN
BEGIN:VEVENT
UID:59be0642-ae90-11f0-b205-0a58a9feac02
DTSTAMP:20251021T151225Z
SUMMARY:Morton HS Athletics Community Trunk or Treat
URL;VALUE=URI:https://www.hammond.k12.in.us/calendar/8738227/morton-hs-athl
 etics-community-trunk-or-treat
DTSTART:20251024T220000Z
DTEND:20251025T000000Z
ATTACH;FILENAME=mortonhstrunkortreat.png;FMTTYPE=image/png:https://campussu
 ite-storage.s3.amazonaws.com/prod/1559033/fab8744a-ab41-11ea-9bfa-127f10bc
 db1b/3023773/49e62f2e-ae90-11f0-a1f8-0a58a9feac02/file/mortonhstrunkortrea
 t.png
END:VEVENT
END:VCALENDAR
