BEGIN:VCALENDAR
VERSION:2.0
PRODID:SchoolNow
CALSCALE:GREGORIAN
BEGIN:VEVENT
UID:23a1ca08-ae90-11f0-975f-02a4029116f3
DTSTAMP:20251021T151054Z
SUMMARY:Jefferson PTA Trunk or Treat
URL;VALUE=URI:https://www.hammond.k12.in.us/calendar/8738226/jefferson-pta-
 trunk-or-treat
DTSTART:20251023T220000Z
DTEND:20251023T233000Z
ATTACH;FILENAME=Jefferson.jpg;FMTTYPE=image/jpeg:https://campussuite-storag
 e.s3.amazonaws.com/prod/1559033/fab8744a-ab41-11ea-9bfa-127f10bcdb1b/30237
 72/0d617338-ae90-11f0-b78f-02120a3370b7/file/Jefferson.jpg
END:VEVENT
END:VCALENDAR
