BEGIN:VCALENDAR
VERSION:2.0
PRODID:SchoolNow
CALSCALE:GREGORIAN
BEGIN:VEVENT
UID:b3872dbc-ae8f-11f0-8362-0202a3ed5e4b
DTSTAMP:20251021T150746Z
SUMMARY:Maker Fair- Morton HS
URL;VALUE=URI:https://www.hammond.k12.in.us/calendar/8738225/maker-fair-mor
 ton-hs
DTSTART:20251204T220000Z
DTEND:20251205T000000Z
END:VEVENT
END:VCALENDAR
