BEGIN:VCALENDAR
VERSION:2.0
PRODID:SchoolNow
CALSCALE:GREGORIAN
BEGIN:VEVENT
UID:6f39432a-ae8f-11f0-b8db-0a58a9feac02
DTSTAMP:20251021T150551Z
SUMMARY:O'Bannon ELA Side-by-Side
URL;VALUE=URI:https://www.hammond.k12.in.us/calendar/8738223/obannon-ela-si
 de-by-side
DTSTART:20251111T150000Z
DTEND:20251112T000000Z
END:VEVENT
END:VCALENDAR
