BEGIN:VCALENDAR
VERSION:2.0
PRODID:SchoolNow
CALSCALE:GREGORIAN
BEGIN:VEVENT
UID:49ec2d62-ae8f-11f0-994e-0a58a9feac02
DTSTAMP:20251021T150449Z
SUMMARY:Franklin Side-by-Side
URL;VALUE=URI:https://www.hammond.k12.in.us/calendar/8738222/franklin-side-
 by-side
DTSTART:20251106T150000Z
DTEND:20251107T000000Z
END:VEVENT
END:VCALENDAR
