BEGIN:VCALENDAR
VERSION:2.0
PRODID:SchoolNow
CALSCALE:GREGORIAN
BEGIN:VEVENT
UID:41916842-ae87-11f0-9821-0e95e64832fb
DTSTAMP:20251021T140719Z
SUMMARY:Survive Alive Open House
LOCATION:Area Career Center
URL;VALUE=URI:https://www.hammond.k12.in.us/calendar/8738220/survive-alive-
 open-house
DTSTART:20251103T180000Z
DTEND:20251104T000000Z
ATTACH;FILENAME=survivealive.png;FMTTYPE=image/png:https://campussuite-stor
 age.s3.amazonaws.com/prod/1559033/fab8744a-ab41-11ea-9bfa-127f10bcdb1b/302
 3734/3f5f75b0-ae86-11f0-9a79-0a58a9feac02/file/survivealive.png
END:VEVENT
END:VCALENDAR
