BEGIN:VCALENDAR
VERSION:2.0
PRODID:SchoolNow
CALSCALE:GREGORIAN
BEGIN:VEVENT
UID:939a1826-ae84-11f0-a857-0202a3ed5e4b
DTSTAMP:20251021T134808Z
SUMMARY:O'Bannon Family Game Night/Fun Night
URL;VALUE=URI:https://www.hammond.k12.in.us/calendar/8738195/obannon-family
 -game-night-fun-night
DTSTART:20260225T221500Z
DTEND:20260225T231500Z
END:VEVENT
END:VCALENDAR
