BEGIN:VCALENDAR
VERSION:2.0
PRODID:SchoolNow
CALSCALE:GREGORIAN
BEGIN:VEVENT
UID:4bd0ea42-ae84-11f0-8df8-0a58a9feac02
DTSTAMP:20251021T134607Z
SUMMARY:O'Bannon Family Fun Night
URL;VALUE=URI:https://www.hammond.k12.in.us/calendar/8738194/obannon-family
 -fun-night
DTSTART:20251029T211500Z
DTEND:20251029T223000Z
END:VEVENT
END:VCALENDAR
