BEGIN:VCALENDAR
VERSION:2.0
PRODID:SchoolNow
CALSCALE:GREGORIAN
BEGIN:VEVENT
UID:dfe6bdfc-ae83-11f0-af4d-0affcc472bef
DTSTAMP:20251021T134306Z
SUMMARY:Lincoln Family Fun Night
URL;VALUE=URI:https://www.hammond.k12.in.us/calendar/8738193/lincoln-family
 -fun-night
DTSTART:20251120T220000Z
DTEND:20251120T233000Z
END:VEVENT
END:VCALENDAR
