BEGIN:VCALENDAR
VERSION:2.0
PRODID:SchoolNow
CALSCALE:GREGORIAN
BEGIN:VEVENT
UID:0c973ecc-ae83-11f0-8df0-022b9f8da2ab
DTSTAMP:20251021T133712Z
SUMMARY:Irving Math STEM Night
URL;VALUE=URI:https://www.hammond.k12.in.us/calendar/8738192/irving-math-st
 em-night
DTSTART:20260507T213000Z
DTEND:20260507T230000Z
END:VEVENT
END:VCALENDAR
