BEGIN:VCALENDAR
VERSION:2.0
PRODID:SchoolNow
CALSCALE:GREGORIAN
BEGIN:VEVENT
UID:a10ed6ec-ae82-11f0-bad4-02026c33b7a3
DTSTAMP:20251021T133411Z
SUMMARY:Irving Literacy Night
URL;VALUE=URI:https://www.hammond.k12.in.us/calendar/8738185/irving-literac
 y-night
DTSTART:20251204T223000Z
DTEND:20251205T000000Z
END:VEVENT
END:VCALENDAR
