BEGIN:VCALENDAR
VERSION:2.0
PRODID:SchoolNow
CALSCALE:GREGORIAN
BEGIN:VEVENT
UID:84195ddc-ae82-11f0-b399-0a58a9feac02
DTSTAMP:20251021T133323Z
SUMMARY:Hess Family Fun Night
URL;VALUE=URI:https://www.hammond.k12.in.us/calendar/8738184/hess-family-fu
 n-night
DTSTART:20251023T213000Z
DTEND:20251023T230000Z
END:VEVENT
END:VCALENDAR
