BEGIN:VCALENDAR
VERSION:2.0
PRODID:SchoolNow
CALSCALE:GREGORIAN
BEGIN:VEVENT
UID:5d362114-ae82-11f0-9870-0affeecfddc9
DTSTAMP:20251021T133218Z
SUMMARY:HAPA Harvest & Trunk or Treat
URL;VALUE=URI:https://www.hammond.k12.in.us/calendar/8738183/hapa-harvest-t
 runk-or-treat
DTSTART:20251030T220000Z
DTEND:20251031T000000Z
ATTACH;FILENAME=hapatrunkortreat.jpg;FMTTYPE=image/jpeg:https://campussuite
 -storage.s3.amazonaws.com/prod/1559033/fab8744a-ab41-11ea-9bfa-127f10bcdb1
 b/3023710/47b9dc40-ae82-11f0-bc57-0affcc472bef/file/hapatrunkortreat.jpg
END:VEVENT
END:VCALENDAR
