BEGIN:VCALENDAR
VERSION:2.0
PRODID:SchoolNow
CALSCALE:GREGORIAN
BEGIN:VEVENT
UID:cdc59f64-ae81-11f0-ad98-0a58a9feac02
DTSTAMP:20251021T132817Z
SUMMARY:Hammond Central FAFSA Night
URL;VALUE=URI:https://www.hammond.k12.in.us/calendar/8738146/hammond-centra
 l-fafsa-night
DTSTART:20251106T233000Z
DTEND:20251107T010000Z
END:VEVENT
END:VCALENDAR
