BEGIN:VCALENDAR
VERSION:2.0
PRODID:SchoolNow
CALSCALE:GREGORIAN
BEGIN:VEVENT
UID:6ccc2c10-ae80-11f0-9253-0a58a9feac02
DTSTAMP:20251021T131825Z
SUMMARY:Franklin Family Fun Night
URL;VALUE=URI:https://www.hammond.k12.in.us/calendar/8738145/franklin-famil
 y-fun-night
DTSTART:20251024T213000Z
DTEND:20251024T233000Z
ATTACH;FILENAME=FranklinTrunkorTrat.jpg;FMTTYPE=image/jpeg:https://campussu
 ite-storage.s3.amazonaws.com/prod/1559033/fab8744a-ab41-11ea-9bfa-127f10bc
 db1b/3023690/5b524000-ae80-11f0-9231-022b9f8da2ab/file/FranklinTrunkorTrat
 .jpg
END:VEVENT
END:VCALENDAR
