BEGIN:VCALENDAR
VERSION:2.0
PRODID:SchoolNow
CALSCALE:GREGORIAN
BEGIN:VEVENT
UID:1a9a7a9c-ae7f-11f0-843e-0affcc472bef
DTSTAMP:20251021T131005Z
SUMMARY:Burns-Hicks Family Fun Night
URL;VALUE=URI:https://www.hammond.k12.in.us/calendar/8738144/burns-hicks-fa
 mily-fun-night
DTSTART:20260226T223000Z
DTEND:20260227T000000Z
END:VEVENT
END:VCALENDAR
