BEGIN:VCALENDAR
VERSION:2.0
PRODID:SchoolNow
CALSCALE:GREGORIAN
BEGIN:VEVENT
UID:53ff7da2-9a1e-11f0-be2d-0a58a9feac02
DTSTAMP:20250925T144629Z
SUMMARY:School Board Meeting - 102125
LOCATION:Administration Center\, 41 Williams Street\, Hammond\, IN 46320
URL;VALUE=URI:https://www.hammond.k12.in.us/calendar/8663065/school-board-m
 eeting-102125
DTSTART:20251021T230000Z
DTEND:20251022T000000Z
END:VEVENT
END:VCALENDAR
