BEGIN:VCALENDAR
VERSION:2.0
PRODID:SchoolNow
CALSCALE:GREGORIAN
BEGIN:VEVENT
UID:4dd9a3bc-9a1e-11f0-bb9d-0a58a9feac02
DTSTAMP:20250925T144539Z
SUMMARY:School Board Meeting - 100725
LOCATION:Administration Center\, 41 Williams Street\, Hammond\, IN 46320
URL;VALUE=URI:https://www.hammond.k12.in.us/calendar/8663064/school-board-m
 eeting-100725
DTSTART:20251007T230000Z
DTEND:20251008T000000Z
END:VEVENT
END:VCALENDAR
